BEGIN:VCALENDAR
VERSION:2.0
PRODID:-//Paul Manwaring - ECPv6.15.17.1//NONSGML v1.0//EN
CALSCALE:GREGORIAN
METHOD:PUBLISH
X-WR-CALNAME:Paul Manwaring
X-ORIGINAL-URL:https://paulmanwaring.com
X-WR-CALDESC:Events for Paul Manwaring
REFRESH-INTERVAL;VALUE=DURATION:PT1H
X-Robots-Tag:noindex
X-PUBLISHED-TTL:PT1H
BEGIN:VTIMEZONE
TZID:Europe/Paris
BEGIN:DAYLIGHT
TZOFFSETFROM:+0100
TZOFFSETTO:+0200
TZNAME:CEST
DTSTART:20190331T010000
END:DAYLIGHT
BEGIN:STANDARD
TZOFFSETFROM:+0200
TZOFFSETTO:+0100
TZNAME:CET
DTSTART:20191027T010000
END:STANDARD
BEGIN:DAYLIGHT
TZOFFSETFROM:+0100
TZOFFSETTO:+0200
TZNAME:CEST
DTSTART:20200329T010000
END:DAYLIGHT
BEGIN:STANDARD
TZOFFSETFROM:+0200
TZOFFSETTO:+0100
TZNAME:CET
DTSTART:20201025T010000
END:STANDARD
BEGIN:DAYLIGHT
TZOFFSETFROM:+0100
TZOFFSETTO:+0200
TZNAME:CEST
DTSTART:20210328T010000
END:DAYLIGHT
BEGIN:STANDARD
TZOFFSETFROM:+0200
TZOFFSETTO:+0100
TZNAME:CET
DTSTART:20211031T010000
END:STANDARD
END:VTIMEZONE
BEGIN:VEVENT
DTSTART;TZID=Europe/Paris:20201012T173000
DTEND;TZID=Europe/Paris:20201012T190000
DTSTAMP:20260422T164739
CREATED:20200908T142728Z
LAST-MODIFIED:20201009T145833Z
UID:4916-1602523800-1602529200@paulmanwaring.com
SUMMARY:Post Covid Strategic Planning (Webinar Series: 4 of 10)
DESCRIPTION:This is the fourth webinar in this series. The registration for this webinar-series is closed! To view more information on this series please visit the event-description of the first event of this series.\nPost Covid Strategic Planning\nArchitects of a Better Future – Let’s BE the change we want to see!\nThis webinar series started on 21st of September 2020. Todays webinar is the third in the row\, therefore registration is already closed. Please come back and check for new upcoming webinars. We hope that you will find what you are looking for at a later point in time. \nIf you are viewing this page before the closure date for registration of this webinar-series and are interested to register\, please visit the event description of the first webinar in the series or of the second webinar in this series. \nShould you have any other questions please feel free to contact us!
URL:https://paulmanwaring.com/event/post-covid-strategic-planning-webinar-series-4-of-10/
CATEGORIES:Webinars
ATTACH;FMTTYPE=image/png:https://paulmanwaring.com/wp-content/uploads/2020/09/webinar-pc.png
ORGANIZER;CN="Paul Manwaring":MAILTO:info (at) paulmanwaring.com
END:VEVENT
BEGIN:VEVENT
DTSTART;TZID=Europe/Paris:20201005T173000
DTEND;TZID=Europe/Paris:20201005T190000
DTSTAMP:20260422T164739
CREATED:20200908T133506Z
LAST-MODIFIED:20201002T205304Z
UID:4904-1601919000-1601924400@paulmanwaring.com
SUMMARY:Post Covid Strategic Planning (Webinar Series: 3 of 10)
DESCRIPTION:This is the third webinar in this series. The registration for this webinar-series is closed! To view more information on this series please visit the event-description of the first event of this series.\nPost Covid Strategic Planning\nArchitects of a Better Future – Let’s BE the change we want to see!\nThis webinar series started on 21st of September 2020. Todays webinar is the third in the row\, therefore registration is already closed. Please come back and check for new upcoming webinars. We hope that you will find what you are looking for at a later point in time. \nIf you are viewing this page before the closure date for registration of this webinar-series and are interested to register\, please visit the event description of the first webinar in the series or of the second webinar in this series. \nShould you have any other questions please feel free to contact us!
URL:https://paulmanwaring.com/event/post-covid-strategic-planning-webinar-series-3-of-10/
CATEGORIES:Webinars
ATTACH;FMTTYPE=image/png:https://paulmanwaring.com/wp-content/uploads/2020/09/webinar-pc.png
ORGANIZER;CN="Paul Manwaring":MAILTO:info (at) paulmanwaring.com
END:VEVENT
BEGIN:VEVENT
DTSTART;TZID=Europe/Paris:20200928T173000
DTEND;TZID=Europe/Paris:20200928T190000
DTSTAMP:20260422T164739
CREATED:20200908T044645Z
LAST-MODIFIED:20200928T154451Z
UID:4889-1601314200-1601319600@paulmanwaring.com
SUMMARY:Post Covid Strategic Planning (Webinar Series: 2 of 10)
DESCRIPTION:Registration for this webinar-series closes on September 28th! This is the second webinar in this series.\nPost Covid Strategic Planning\nArchitects of a Better Future – Let’s BE the change we want to see!\n£125 for 10 life changing sessions\nRegister for this Webinar Series\nAre you? \n\nNot sure what 2021 will look like?\nDistracted\, Tired\,\nNeeding to achieve more with less resources?\n\nMany have called this a Reset\, But How and what do we reset? \n\nThis 10 session Strategic Workshop will take you from:\n\nSurvival to Recreating your future\nDistraction to Focussed\nReluctantly digital to intentional about what to keep doing\nScattered & isolated to regrouped and connected\n\nOut of this crisis\, this interruption I will lead you to find: \n\nA renewed sense of vision and purpose\,\nA plan to regroup and re vision you and your team\nA set of priorities for 2021\nA definition of success and how to pursue it\nThe spirit at the centre of all you do or lead\nA set of culture priorities crafted by you for this time.\n\nPost-Covid Strategic Planning is for you! Individuals\, leaders of businesses\, churches and organisations\, \nI love Strategic Planning. If ever there was a moment in time for strategic discovery\, thinking\, dreaming and designing our future it must surely be now. \nNo matter who you are\, where you are\, what you do\, and who you are with\, your life has experienced disruption in 2020. \nWhat will you bring out of this season? \nWhat potential is waiting to be fully realised? \nHOW THEN SHALL WE LIVE?\nTo answer this question I have written a 10 week strategic planning webinar series. \nI have led hundreds of strategic planning workshops\, in fact I first learned to be a strategic coach/consultant in a crisis\, when I was seconded to work in a troubled young offenders institution. I very quickly discovered that leading change and strategy workshops was something which I had an aptitude and a passion for. I have led workshops for public sector\, private organisations\, ministries\, and churches. \n\nChange is my personal mission statement:\n\n\nChanged lives- Changed organisations-Change Nations.\n\nI will lead you to be an architect of a better future for yourself\, your organisation\, business or church. \nWebinar Schedule\nAll Webinars start at 1730 UK Time and end at 1900 UK Time\n\n\n\nDate\nTheme\n\n\nSeptember 21st\n01. A Review of the Context\n\n\nSeptember 28th\n02. Change\, Strategy & Kingdom\n\n\nOctober 5th\n03. Defining & Discovering the ‘Spirit’ of your organisation or personal life\n\n\nOctober 12th\n04. The pursuit of success and discovering what God has hidden for you\n\n\nOctober 19th\n05. Building on our foundations & lessons learned from pandemic\n\n\nOctober 26th\n06. The culture we need\n\n\nNovember 2nd\n07. The resources & power available\n\n\nNovember 9th\n08. Rest\, alignment\, and empowerment\n\n\nNovember 16th\n09. Building the 2021 plan\n\n\nNovember 23rd\n10. Focus\, People\, Culture\, and Priorities\n\n\n\nTo attend this webinar series please purchase it by following the link below! After purchase you may login to this website and return to this page. You will find the information how to access the course right here.\nRegister for this Webinar Series
URL:https://paulmanwaring.com/event/post-covid-strategic-planning-webinar-series-2-of-10/
CATEGORIES:Webinars
ATTACH;FMTTYPE=image/png:https://paulmanwaring.com/wp-content/uploads/2020/09/webinar-pc.png
ORGANIZER;CN="Paul Manwaring":MAILTO:info (at) paulmanwaring.com
END:VEVENT
BEGIN:VEVENT
DTSTART;TZID=Europe/Paris:20200921T173000
DTEND;TZID=Europe/Paris:20200921T190000
DTSTAMP:20260422T164739
CREATED:20200904T125258Z
LAST-MODIFIED:20200916T141551Z
UID:4808-1600709400-1600714800@paulmanwaring.com
SUMMARY:Post Covid Strategic Planning (Webinar Series: 1 of 10)
DESCRIPTION:Registration for this webinar-series closes on September 28th!\nPost Covid Strategic Planning\nArchitects of a Better Future – Let’s BE the change we want to see!\n£125 for 10 life changing sessions\nRegister for this Webinar Series\nAre you? \n\nNot sure what 2021 will look like?\nDistracted\, Tired\,\nNeeding to achieve more with less resources?\n\nMany have called this a Reset\, But How and what do we reset? \n\nThis 10 session Strategic Workshop will take you from:\n\nSurvival to Recreating your future\nDistraction to Focussed\nReluctantly digital to intentional about what to keep doing\nScattered & isolated to regrouped and connected\n\nOut of this crisis\, this interruption I will lead you to find: \n\nA renewed sense of vision and purpose\,\nA plan to regroup and re vision you and your team\nA set of priorities for 2021\nA definition of success and how to pursue it\nThe spirit at the centre of all you do or lead\nA set of culture priorities crafted by you for this time.\n\nPost-Covid Strategic Planning is for you! Individuals\, leaders of businesses\, churches and organisations\, \nI love Strategic Planning. If ever there was a moment in time for strategic discovery\, thinking\, dreaming and designing our future it must surely be now. \nNo matter who you are\, where you are\, what you do\, and who you are with\, your life has experienced disruption in 2020. \nWhat will you bring out of this season? \nWhat potential is waiting to be fully realised? \nHOW THEN SHALL WE LIVE?\nTo answer this question I have written a 10 week strategic planning webinar series. \nI have led hundreds of strategic planning workshops\, in fact I first learned to be a strategic coach/consultant in a crisis\, when I was seconded to work in a troubled young offenders institution. I very quickly discovered that leading change and strategy workshops was something which I had an aptitude and a passion for. I have led workshops for public sector\, private organisations\, ministries\, and churches. \n\nChange is my personal mission statement:\n\n\nChanged lives- Changed organisations-Change Nations.\n\nI will lead you to be an architect of a better future for yourself\, your organisation\, business or church. \nWebinar Schedule\nAll Webinars start at 1730 UK Time and end at 1900 UK Time\n\n\n\nDate\nTheme\n\n\nSeptember 21st\n01. A Review of the Context\n\n\nSeptember 28th\n02. Change\, Strategy & Kingdom\n\n\nOctober 5th\n03. Defining & Discovering the ‘Spirit’ of your organisation or personal life\n\n\nOctober 12th\n04. The pursuit of success and discovering what God has hidden for you\n\n\nOctober 19th\n05. Building on our foundations & lessons learned from pandemic\n\n\nOctober 26th\n06. The culture we need\n\n\nNovember 2nd\n07. The resources & power available\n\n\nNovember 9th\n08. Rest\, alignment\, and empowerment\n\n\nNovember 16th\n09. Building the 2021 plan\n\n\nNovember 23rd\n10. Focus\, People\, Culture\, and Priorities\n\n\n\nTo attend this webinar series please purchase it by following the link below! After purchase you may login to this website and return to this page. You will find the information how to access the course right here.\nRegister for this Webinar Series
URL:https://paulmanwaring.com/event/post-covid-strategic-planning-webinar-series-1-of-10/
CATEGORIES:Webinars
ATTACH;FMTTYPE=image/png:https://paulmanwaring.com/wp-content/uploads/2020/09/webinar-pc.png
ORGANIZER;CN="Paul Manwaring":MAILTO:info (at) paulmanwaring.com
END:VEVENT
END:VCALENDAR