BEGIN:VCALENDAR
VERSION:2.0
PRODID:-//Paul Manwaring - ECPv6.15.17.1//NONSGML v1.0//EN
CALSCALE:GREGORIAN
METHOD:PUBLISH
X-WR-CALNAME:Paul Manwaring
X-ORIGINAL-URL:https://paulmanwaring.com
X-WR-CALDESC:Events for Paul Manwaring
REFRESH-INTERVAL;VALUE=DURATION:PT1H
X-Robots-Tag:noindex
X-PUBLISHED-TTL:PT1H
BEGIN:VTIMEZONE
TZID:UTC
BEGIN:STANDARD
TZOFFSETFROM:+0000
TZOFFSETTO:+0000
TZNAME:UTC
DTSTART:20200101T000000
END:STANDARD
END:VTIMEZONE
BEGIN:VTIMEZONE
TZID:Europe/Paris
BEGIN:DAYLIGHT
TZOFFSETFROM:+0100
TZOFFSETTO:+0200
TZNAME:CEST
DTSTART:20190331T010000
END:DAYLIGHT
BEGIN:STANDARD
TZOFFSETFROM:+0200
TZOFFSETTO:+0100
TZNAME:CET
DTSTART:20191027T010000
END:STANDARD
BEGIN:DAYLIGHT
TZOFFSETFROM:+0100
TZOFFSETTO:+0200
TZNAME:CEST
DTSTART:20200329T010000
END:DAYLIGHT
BEGIN:STANDARD
TZOFFSETFROM:+0200
TZOFFSETTO:+0100
TZNAME:CET
DTSTART:20201025T010000
END:STANDARD
BEGIN:DAYLIGHT
TZOFFSETFROM:+0100
TZOFFSETTO:+0200
TZNAME:CEST
DTSTART:20210328T010000
END:DAYLIGHT
BEGIN:STANDARD
TZOFFSETFROM:+0200
TZOFFSETTO:+0100
TZNAME:CET
DTSTART:20211031T010000
END:STANDARD
END:VTIMEZONE
BEGIN:VEVENT
DTSTART;TZID=UTC:20210222T180000
DTEND;TZID=UTC:20210222T191500
DTSTAMP:20260422T151823
CREATED:20200118T141021Z
LAST-MODIFIED:20210216T082306Z
UID:3533-1614016800-1614021300@paulmanwaring.com
SUMMARY:Whiteboard Coaching - Part 4
DESCRIPTION:This is the fourth webinar in this series. The registration for this webinar-series is closed! To view more information on this series please visit the event-description of the first event of this series.\nWhiteboard Coaching & Training to Coach\nHe Wastes Nothing and Gets You Ready\nThis webinar series started on 1st of February 2021. Todays webinar is the fourth in the row\, therefore registration is already closed. Please come back and check for new upcoming webinars. We hope that you will find what you are looking for at a later point in time. \nIf you are viewing this page before the closure date for registration of this webinar-series and are interested to register\, please visit the event description of the first webinar in the series. \nShould you have any other questions please feel free to contact us!
URL:https://paulmanwaring.com/event/whiteboard-coaching-part-4/
CATEGORIES:Webinars
ATTACH;FMTTYPE=image/png:https://paulmanwaring.com/wp-content/uploads/2020/01/paul-wbc04.png
ORGANIZER;CN="Paul Manwaring":MAILTO:info (at) paulmanwaring.com
END:VEVENT
BEGIN:VEVENT
DTSTART;TZID=UTC:20210215T180000
DTEND;TZID=UTC:20210215T191500
DTSTAMP:20260422T151823
CREATED:20200118T140728Z
LAST-MODIFIED:20210215T163417Z
UID:3530-1613412000-1613416500@paulmanwaring.com
SUMMARY:Whiteboard Coaching - Part 3
DESCRIPTION:This is the third webinar in this series. The registration for this webinar-series is closed! To view more information on this series please visit the event-description of the first event of this series.\nWhiteboard Coaching & Training to Coach\nHe Wastes Nothing and Gets You Ready\nThis webinar series started on 1st of February 2021. Todays webinar is the third in the row\, therefore registration is already closed. Please come back and check for new upcoming webinars. We hope that you will find what you are looking for at a later point in time. \nIf you are viewing this page before the closure date for registration of this webinar-series and are interested to register\, please visit the event description of the first webinar in the series. \nShould you have any other questions please feel free to contact us!
URL:https://paulmanwaring.com/event/whiteboard-coaching-part-3/
CATEGORIES:Webinars
ATTACH;FMTTYPE=image/png:https://paulmanwaring.com/wp-content/uploads/2020/01/paul-wbc04.png
ORGANIZER;CN="Paul Manwaring":MAILTO:info (at) paulmanwaring.com
END:VEVENT
BEGIN:VEVENT
DTSTART;TZID=UTC:20210208T180000
DTEND;TZID=UTC:20210208T191500
DTSTAMP:20260422T151823
CREATED:20200118T140447Z
LAST-MODIFIED:20210207T193348Z
UID:3526-1612807200-1612811700@paulmanwaring.com
SUMMARY:Whiteboard Coaching - Part 2
DESCRIPTION:This is the second webinar in this series. The registration for this webinar-series is closed! To view more information on this series please visit the event-description of the first event of this series.\nWhiteboard Coaching & Training to Coach\nHe Wastes Nothing and Gets You Ready\nThis webinar series started on 1st of February 2021. Todays webinar is the second in the row\, therefore registration is already closed. Please come back and check for new upcoming webinars. We hope that you will find what you are looking for at a later point in time. \nIf you are viewing this page before the closure date for registration of this webinar-series and are interested to register\, please visit the event description of the first webinar in the series. \nShould you have any other questions please feel free to contact us!
URL:https://paulmanwaring.com/event/whiteboard-coaching-part-2/
CATEGORIES:Webinars
ATTACH;FMTTYPE=image/png:https://paulmanwaring.com/wp-content/uploads/2020/01/paul-wbc04.png
ORGANIZER;CN="Paul Manwaring":MAILTO:info (at) paulmanwaring.com
END:VEVENT
BEGIN:VEVENT
DTSTART;TZID=UTC:20210201T180000
DTEND;TZID=UTC:20210201T191500
DTSTAMP:20260422T151823
CREATED:20200118T131836Z
LAST-MODIFIED:20210129T154240Z
UID:3511-1612202400-1612206900@paulmanwaring.com
SUMMARY:Whiteboard Coaching - Part 1
DESCRIPTION:Registration for this webinar-series closes on February 7th!\nWhiteboard Coaching & Training to Coach\nHe Wastes Nothing and Gets You Ready\n\nDo you want to know the next step in your life?\nDo you want to help coach others to their next step?\nIs your world chaotic\, full of choices and you don’t know what to do?\nDo you feel stuck in life?\n\n£100 for 8 interactive training-sessions & access to the recordings & worksheets afterwards.\nRegister for this Webinar Series\nDo you want to know what your next step in life is or help someone else to know theirs?\nGod Wastes Nothing and He Gets You Ready. This is my life motto based on Romans 8:28 \nThis is a great truth\, that God uses absolutely everything in our lives\, the good\, the less than good\, and the seemingly wasted times. But he is redeemer and he breathes life into our lives and the lives of everyone who believes in Him. \nThis training & coaching course is for: \n\nPeople who need help taking the next step on their life’s journey\nPeople who want to help coach others to find the next step on their journey\nPeople who want to change the way they think and see life through the lens of: He wastes Nothing\nPeople who struggle to make choices\, are stuck in a pattern of chaos\, or are confused about life’s journey\nPeople who want to grow in the confidence of ‘Believing their story.’\n\nThis 8 week series will lead you on a journey of discovery\, breakthrough\, insight and next steps. God will use every part of your life and your unique story\, fit them together and use them for His purposes and Glory. Even things done or learnt 10\, 20\, 30 years ago he uses\ntoday. \nThis is not just about coaching\, this is a method developed from biblical principles and grown in relationship and experience of the Holy Spirit.\nThere is an impartation in the training and coaching\, faith to believe that He wastes nothing in your life too. This is not just a journey of our discovery but also of discovering more of the nature of God as redeemer and as a result of that coaching others too. \nAnd the fruit will be that you believe your story\, giving you authority and confidence for the next steps of your life journey and those that you coach or advise. \nI have been using and demonstrating this coaching method for over 10 years and continually see people experience life changing moments and revelations. \nI am so excited to invite you to my first ever training course in White Board (Next Steps) Coaching & Training. \nWebinar Schedule\nAll Webinars start at 1800 UK Time and end at 1915 UK Time\n\n\n\nDate\nTheme\n\n\nFebruary 1st\n01. An Introduction\n\n\nFebruary 8th\n02. Practical Demonstration\n\n\nFebruary 15th\n03. Believing your story\n\n\nFebruary 22nd\n04. Unpacking the method- Part 1\n\n\nMarch 1st\n05. Unpacking the method- Part 2\n\n\nMarch 8th\n06. The Next Step Journeys\n\n\nMarch 15th\n07. Practical Demonstration – II\n\n\nMarch 22nd\n08. My Guidelines for Successful Coaching\n\n\n\nTo participate in this FIRST White Board Coaching Series follow the link below. After purchase you will be able to log in to the website and access the course and the webinar links.\nRegister for this Webinar Series
URL:https://paulmanwaring.com/event/whiteboard-coaching-webinar/
CATEGORIES:Webinars
ATTACH;FMTTYPE=image/png:https://paulmanwaring.com/wp-content/uploads/2020/01/paul-wbc04.png
ORGANIZER;CN="Paul Manwaring":MAILTO:info (at) paulmanwaring.com
END:VEVENT
BEGIN:VEVENT
DTSTART;TZID=Europe/Paris:20201123T173000
DTEND;TZID=Europe/Paris:20201123T190000
DTSTAMP:20260422T151823
CREATED:20200908T170126Z
LAST-MODIFIED:20201123T100921Z
UID:4932-1606152600-1606158000@paulmanwaring.com
SUMMARY:Post Covid Strategic Planning (Webinar Series: 10 of 10)
DESCRIPTION:This is the last webinar in this series. The registration for this webinar-series is closed! To view more information on this series please visit the event-description of the first event of this series.\nPost Covid Strategic Planning\nArchitects of a Better Future – Let’s BE the change we want to see!\nThis webinar series started on 21st of September 2020. Todays webinar is the third in the row\, therefore registration is already closed. Please come back and check for new upcoming webinars. We hope that you will find what you are looking for at a later point in time. \nIf you are viewing this page before the closure date for registration of this webinar-series and are interested to register\, please visit the event description of the first webinar in the series or of the second webinar in this series. \nShould you have any other questions please feel free to contact us!
URL:https://paulmanwaring.com/event/post-covid-strategic-planning-webinar-series-10-of-10/
CATEGORIES:Webinars
ATTACH;FMTTYPE=image/png:https://paulmanwaring.com/wp-content/uploads/2020/09/webinar-pc.png
ORGANIZER;CN="Paul Manwaring":MAILTO:info (at) paulmanwaring.com
END:VEVENT
BEGIN:VEVENT
DTSTART;TZID=Europe/Paris:20201116T173000
DTEND;TZID=Europe/Paris:20201116T190000
DTSTAMP:20260422T151823
CREATED:20200908T165707Z
LAST-MODIFIED:20201116T072617Z
UID:4929-1605547800-1605553200@paulmanwaring.com
SUMMARY:Post Covid Strategic Planning (Webinar Series: 9 of 10)
DESCRIPTION:This is the ninth webinar in this series. The registration for this webinar-series is closed! To view more information on this series please visit the event-description of the first event of this series.\nPost Covid Strategic Planning\nArchitects of a Better Future – Let’s BE the change we want to see!\nThis webinar series started on 21st of September 2020. Todays webinar is the third in the row\, therefore registration is already closed. Please come back and check for new upcoming webinars. We hope that you will find what you are looking for at a later point in time. \nIf you are viewing this page before the closure date for registration of this webinar-series and are interested to register\, please visit the event description of the first webinar in the series or of the second webinar in this series. \nShould you have any other questions please feel free to contact us!
URL:https://paulmanwaring.com/event/post-covid-strategic-planning-webinar-series-8-of-10-2/
CATEGORIES:Webinars
ATTACH;FMTTYPE=image/png:https://paulmanwaring.com/wp-content/uploads/2020/09/webinar-pc.png
ORGANIZER;CN="Paul Manwaring":MAILTO:info (at) paulmanwaring.com
END:VEVENT
BEGIN:VEVENT
DTSTART;TZID=Europe/Paris:20201109T173000
DTEND;TZID=Europe/Paris:20201109T190000
DTSTAMP:20260422T151823
CREATED:20200908T165230Z
LAST-MODIFIED:20201109T103732Z
UID:4927-1604943000-1604948400@paulmanwaring.com
SUMMARY:Post Covid Strategic Planning (Webinar Series: 8 of 10)
DESCRIPTION:This is the eighth webinar in this series. The registration for this webinar-series is closed! To view more information on this series please visit the event-description of the first event of this series.\nPost Covid Strategic Planning\nArchitects of a Better Future – Let’s BE the change we want to see!\nThis webinar series started on 21st of September 2020. Todays webinar is the third in the row\, therefore registration is already closed. Please come back and check for new upcoming webinars. We hope that you will find what you are looking for at a later point in time. \nIf you are viewing this page before the closure date for registration of this webinar-series and are interested to register\, please visit the event description of the first webinar in the series or of the second webinar in this series. \nShould you have any other questions please feel free to contact us!
URL:https://paulmanwaring.com/event/post-covid-strategic-planning-webinar-series-8-of-10/
CATEGORIES:Webinars
ATTACH;FMTTYPE=image/png:https://paulmanwaring.com/wp-content/uploads/2020/09/webinar-pc.png
ORGANIZER;CN="Paul Manwaring":MAILTO:info (at) paulmanwaring.com
END:VEVENT
BEGIN:VEVENT
DTSTART;TZID=Europe/Paris:20201102T173000
DTEND;TZID=Europe/Paris:20201102T190000
DTSTAMP:20260422T151823
CREATED:20200908T164800Z
LAST-MODIFIED:20201101T074747Z
UID:4925-1604338200-1604343600@paulmanwaring.com
SUMMARY:Post Covid Strategic Planning (Webinar Series: 7 of 10)
DESCRIPTION:This is the seventh webinar in this series. The registration for this webinar-series is closed! To view more information on this series please visit the event-description of the first event of this series.\nPost Covid Strategic Planning\nArchitects of a Better Future – Let’s BE the change we want to see!\nThis webinar series started on 21st of September 2020. Todays webinar is the third in the row\, therefore registration is already closed. Please come back and check for new upcoming webinars. We hope that you will find what you are looking for at a later point in time. \nIf you are viewing this page before the closure date for registration of this webinar-series and are interested to register\, please visit the event description of the first webinar in the series or of the second webinar in this series. \nShould you have any other questions please feel free to contact us!
URL:https://paulmanwaring.com/event/post-covid-strategic-planning-webinar-series-7-of-10/
CATEGORIES:Webinars
ATTACH;FMTTYPE=image/png:https://paulmanwaring.com/wp-content/uploads/2020/09/webinar-pc.png
ORGANIZER;CN="Paul Manwaring":MAILTO:info (at) paulmanwaring.com
END:VEVENT
BEGIN:VEVENT
DTSTART;TZID=Europe/Paris:20201026T173000
DTEND;TZID=Europe/Paris:20201026T190000
DTSTAMP:20260422T151823
CREATED:20200908T144347Z
LAST-MODIFIED:20201024T092022Z
UID:4923-1603733400-1603738800@paulmanwaring.com
SUMMARY:Post Covid Strategic Planning (Webinar Series: 6 of 10)
DESCRIPTION:This is the sixth webinar in this series. The registration for this webinar-series is closed! To view more information on this series please visit the event-description of the first event of this series.\nPost Covid Strategic Planning\nArchitects of a Better Future – Let’s BE the change we want to see!\nThis webinar series started on 21st of September 2020. Todays webinar is the third in the row\, therefore registration is already closed. Please come back and check for new upcoming webinars. We hope that you will find what you are looking for at a later point in time. \nIf you are viewing this page before the closure date for registration of this webinar-series and are interested to register\, please visit the event description of the first webinar in the series or of the second webinar in this series. \nShould you have any other questions please feel free to contact us!
URL:https://paulmanwaring.com/event/post-covid-strategic-planning-webinar-series-6-of-10/
CATEGORIES:Webinars
ATTACH;FMTTYPE=image/png:https://paulmanwaring.com/wp-content/uploads/2020/09/webinar-pc.png
ORGANIZER;CN="Paul Manwaring":MAILTO:info (at) paulmanwaring.com
END:VEVENT
BEGIN:VEVENT
DTSTART;TZID=Europe/Paris:20201019T173000
DTEND;TZID=Europe/Paris:20201019T190000
DTSTAMP:20260422T151823
CREATED:20200908T143433Z
LAST-MODIFIED:20201015T182841Z
UID:4921-1603128600-1603134000@paulmanwaring.com
SUMMARY:Post Covid Strategic Planning (Webinar Series: 5 of 10)
DESCRIPTION:This is the sixth webinar in this series. The registration for this webinar-series is closed! To view more information on this series please visit the event-description of the first event of this series.\nPost Covid Strategic Planning\nArchitects of a Better Future – Let’s BE the change we want to see!\nThis webinar series started on 21st of September 2020. Todays webinar is the third in the row\, therefore registration is already closed. Please come back and check for new upcoming webinars. We hope that you will find what you are looking for at a later point in time. \nIf you are viewing this page before the closure date for registration of this webinar-series and are interested to register\, please visit the event description of the first webinar in the series or of the second webinar in this series. \nShould you have any other questions please feel free to contact us!
URL:https://paulmanwaring.com/event/post-covid-strategic-planning-webinar-series-5-of-10/
CATEGORIES:Webinars
ATTACH;FMTTYPE=image/png:https://paulmanwaring.com/wp-content/uploads/2020/09/webinar-pc.png
ORGANIZER;CN="Paul Manwaring":MAILTO:info (at) paulmanwaring.com
END:VEVENT
BEGIN:VEVENT
DTSTART;TZID=Europe/Paris:20201012T173000
DTEND;TZID=Europe/Paris:20201012T190000
DTSTAMP:20260422T151823
CREATED:20200908T142728Z
LAST-MODIFIED:20201009T145833Z
UID:4916-1602523800-1602529200@paulmanwaring.com
SUMMARY:Post Covid Strategic Planning (Webinar Series: 4 of 10)
DESCRIPTION:This is the fourth webinar in this series. The registration for this webinar-series is closed! To view more information on this series please visit the event-description of the first event of this series.\nPost Covid Strategic Planning\nArchitects of a Better Future – Let’s BE the change we want to see!\nThis webinar series started on 21st of September 2020. Todays webinar is the third in the row\, therefore registration is already closed. Please come back and check for new upcoming webinars. We hope that you will find what you are looking for at a later point in time. \nIf you are viewing this page before the closure date for registration of this webinar-series and are interested to register\, please visit the event description of the first webinar in the series or of the second webinar in this series. \nShould you have any other questions please feel free to contact us!
URL:https://paulmanwaring.com/event/post-covid-strategic-planning-webinar-series-4-of-10/
CATEGORIES:Webinars
ATTACH;FMTTYPE=image/png:https://paulmanwaring.com/wp-content/uploads/2020/09/webinar-pc.png
ORGANIZER;CN="Paul Manwaring":MAILTO:info (at) paulmanwaring.com
END:VEVENT
BEGIN:VEVENT
DTSTART;TZID=Europe/Paris:20201005T173000
DTEND;TZID=Europe/Paris:20201005T190000
DTSTAMP:20260422T151823
CREATED:20200908T133506Z
LAST-MODIFIED:20201002T205304Z
UID:4904-1601919000-1601924400@paulmanwaring.com
SUMMARY:Post Covid Strategic Planning (Webinar Series: 3 of 10)
DESCRIPTION:This is the third webinar in this series. The registration for this webinar-series is closed! To view more information on this series please visit the event-description of the first event of this series.\nPost Covid Strategic Planning\nArchitects of a Better Future – Let’s BE the change we want to see!\nThis webinar series started on 21st of September 2020. Todays webinar is the third in the row\, therefore registration is already closed. Please come back and check for new upcoming webinars. We hope that you will find what you are looking for at a later point in time. \nIf you are viewing this page before the closure date for registration of this webinar-series and are interested to register\, please visit the event description of the first webinar in the series or of the second webinar in this series. \nShould you have any other questions please feel free to contact us!
URL:https://paulmanwaring.com/event/post-covid-strategic-planning-webinar-series-3-of-10/
CATEGORIES:Webinars
ATTACH;FMTTYPE=image/png:https://paulmanwaring.com/wp-content/uploads/2020/09/webinar-pc.png
ORGANIZER;CN="Paul Manwaring":MAILTO:info (at) paulmanwaring.com
END:VEVENT
BEGIN:VEVENT
DTSTART;TZID=Europe/Paris:20200928T173000
DTEND;TZID=Europe/Paris:20200928T190000
DTSTAMP:20260422T151823
CREATED:20200908T044645Z
LAST-MODIFIED:20200928T154451Z
UID:4889-1601314200-1601319600@paulmanwaring.com
SUMMARY:Post Covid Strategic Planning (Webinar Series: 2 of 10)
DESCRIPTION:Registration for this webinar-series closes on September 28th! This is the second webinar in this series.\nPost Covid Strategic Planning\nArchitects of a Better Future – Let’s BE the change we want to see!\n£125 for 10 life changing sessions\nRegister for this Webinar Series\nAre you? \n\nNot sure what 2021 will look like?\nDistracted\, Tired\,\nNeeding to achieve more with less resources?\n\nMany have called this a Reset\, But How and what do we reset? \n\nThis 10 session Strategic Workshop will take you from:\n\nSurvival to Recreating your future\nDistraction to Focussed\nReluctantly digital to intentional about what to keep doing\nScattered & isolated to regrouped and connected\n\nOut of this crisis\, this interruption I will lead you to find: \n\nA renewed sense of vision and purpose\,\nA plan to regroup and re vision you and your team\nA set of priorities for 2021\nA definition of success and how to pursue it\nThe spirit at the centre of all you do or lead\nA set of culture priorities crafted by you for this time.\n\nPost-Covid Strategic Planning is for you! Individuals\, leaders of businesses\, churches and organisations\, \nI love Strategic Planning. If ever there was a moment in time for strategic discovery\, thinking\, dreaming and designing our future it must surely be now. \nNo matter who you are\, where you are\, what you do\, and who you are with\, your life has experienced disruption in 2020. \nWhat will you bring out of this season? \nWhat potential is waiting to be fully realised? \nHOW THEN SHALL WE LIVE?\nTo answer this question I have written a 10 week strategic planning webinar series. \nI have led hundreds of strategic planning workshops\, in fact I first learned to be a strategic coach/consultant in a crisis\, when I was seconded to work in a troubled young offenders institution. I very quickly discovered that leading change and strategy workshops was something which I had an aptitude and a passion for. I have led workshops for public sector\, private organisations\, ministries\, and churches. \n\nChange is my personal mission statement:\n\n\nChanged lives- Changed organisations-Change Nations.\n\nI will lead you to be an architect of a better future for yourself\, your organisation\, business or church. \nWebinar Schedule\nAll Webinars start at 1730 UK Time and end at 1900 UK Time\n\n\n\nDate\nTheme\n\n\nSeptember 21st\n01. A Review of the Context\n\n\nSeptember 28th\n02. Change\, Strategy & Kingdom\n\n\nOctober 5th\n03. Defining & Discovering the ‘Spirit’ of your organisation or personal life\n\n\nOctober 12th\n04. The pursuit of success and discovering what God has hidden for you\n\n\nOctober 19th\n05. Building on our foundations & lessons learned from pandemic\n\n\nOctober 26th\n06. The culture we need\n\n\nNovember 2nd\n07. The resources & power available\n\n\nNovember 9th\n08. Rest\, alignment\, and empowerment\n\n\nNovember 16th\n09. Building the 2021 plan\n\n\nNovember 23rd\n10. Focus\, People\, Culture\, and Priorities\n\n\n\nTo attend this webinar series please purchase it by following the link below! After purchase you may login to this website and return to this page. You will find the information how to access the course right here.\nRegister for this Webinar Series
URL:https://paulmanwaring.com/event/post-covid-strategic-planning-webinar-series-2-of-10/
CATEGORIES:Webinars
ATTACH;FMTTYPE=image/png:https://paulmanwaring.com/wp-content/uploads/2020/09/webinar-pc.png
ORGANIZER;CN="Paul Manwaring":MAILTO:info (at) paulmanwaring.com
END:VEVENT
BEGIN:VEVENT
DTSTART;TZID=Europe/Paris:20200921T173000
DTEND;TZID=Europe/Paris:20200921T190000
DTSTAMP:20260422T151823
CREATED:20200904T125258Z
LAST-MODIFIED:20200916T141551Z
UID:4808-1600709400-1600714800@paulmanwaring.com
SUMMARY:Post Covid Strategic Planning (Webinar Series: 1 of 10)
DESCRIPTION:Registration for this webinar-series closes on September 28th!\nPost Covid Strategic Planning\nArchitects of a Better Future – Let’s BE the change we want to see!\n£125 for 10 life changing sessions\nRegister for this Webinar Series\nAre you? \n\nNot sure what 2021 will look like?\nDistracted\, Tired\,\nNeeding to achieve more with less resources?\n\nMany have called this a Reset\, But How and what do we reset? \n\nThis 10 session Strategic Workshop will take you from:\n\nSurvival to Recreating your future\nDistraction to Focussed\nReluctantly digital to intentional about what to keep doing\nScattered & isolated to regrouped and connected\n\nOut of this crisis\, this interruption I will lead you to find: \n\nA renewed sense of vision and purpose\,\nA plan to regroup and re vision you and your team\nA set of priorities for 2021\nA definition of success and how to pursue it\nThe spirit at the centre of all you do or lead\nA set of culture priorities crafted by you for this time.\n\nPost-Covid Strategic Planning is for you! Individuals\, leaders of businesses\, churches and organisations\, \nI love Strategic Planning. If ever there was a moment in time for strategic discovery\, thinking\, dreaming and designing our future it must surely be now. \nNo matter who you are\, where you are\, what you do\, and who you are with\, your life has experienced disruption in 2020. \nWhat will you bring out of this season? \nWhat potential is waiting to be fully realised? \nHOW THEN SHALL WE LIVE?\nTo answer this question I have written a 10 week strategic planning webinar series. \nI have led hundreds of strategic planning workshops\, in fact I first learned to be a strategic coach/consultant in a crisis\, when I was seconded to work in a troubled young offenders institution. I very quickly discovered that leading change and strategy workshops was something which I had an aptitude and a passion for. I have led workshops for public sector\, private organisations\, ministries\, and churches. \n\nChange is my personal mission statement:\n\n\nChanged lives- Changed organisations-Change Nations.\n\nI will lead you to be an architect of a better future for yourself\, your organisation\, business or church. \nWebinar Schedule\nAll Webinars start at 1730 UK Time and end at 1900 UK Time\n\n\n\nDate\nTheme\n\n\nSeptember 21st\n01. A Review of the Context\n\n\nSeptember 28th\n02. Change\, Strategy & Kingdom\n\n\nOctober 5th\n03. Defining & Discovering the ‘Spirit’ of your organisation or personal life\n\n\nOctober 12th\n04. The pursuit of success and discovering what God has hidden for you\n\n\nOctober 19th\n05. Building on our foundations & lessons learned from pandemic\n\n\nOctober 26th\n06. The culture we need\n\n\nNovember 2nd\n07. The resources & power available\n\n\nNovember 9th\n08. Rest\, alignment\, and empowerment\n\n\nNovember 16th\n09. Building the 2021 plan\n\n\nNovember 23rd\n10. Focus\, People\, Culture\, and Priorities\n\n\n\nTo attend this webinar series please purchase it by following the link below! After purchase you may login to this website and return to this page. You will find the information how to access the course right here.\nRegister for this Webinar Series
URL:https://paulmanwaring.com/event/post-covid-strategic-planning-webinar-series-1-of-10/
CATEGORIES:Webinars
ATTACH;FMTTYPE=image/png:https://paulmanwaring.com/wp-content/uploads/2020/09/webinar-pc.png
ORGANIZER;CN="Paul Manwaring":MAILTO:info (at) paulmanwaring.com
END:VEVENT
END:VCALENDAR