BEGIN:VCALENDAR
VERSION:2.0
PRODID:-//Paul Manwaring - ECPv6.15.17.1//NONSGML v1.0//EN
CALSCALE:GREGORIAN
METHOD:PUBLISH
X-WR-CALNAME:Paul Manwaring
X-ORIGINAL-URL:https://paulmanwaring.com
X-WR-CALDESC:Events for Paul Manwaring
REFRESH-INTERVAL;VALUE=DURATION:PT1H
X-Robots-Tag:noindex
X-PUBLISHED-TTL:PT1H
BEGIN:VTIMEZONE
TZID:Europe/Paris
BEGIN:DAYLIGHT
TZOFFSETFROM:+0100
TZOFFSETTO:+0200
TZNAME:CEST
DTSTART:20200329T010000
END:DAYLIGHT
BEGIN:STANDARD
TZOFFSETFROM:+0200
TZOFFSETTO:+0100
TZNAME:CET
DTSTART:20201025T010000
END:STANDARD
BEGIN:DAYLIGHT
TZOFFSETFROM:+0100
TZOFFSETTO:+0200
TZNAME:CEST
DTSTART:20210328T010000
END:DAYLIGHT
BEGIN:STANDARD
TZOFFSETFROM:+0200
TZOFFSETTO:+0100
TZNAME:CET
DTSTART:20211031T010000
END:STANDARD
BEGIN:DAYLIGHT
TZOFFSETFROM:+0100
TZOFFSETTO:+0200
TZNAME:CEST
DTSTART:20220327T010000
END:DAYLIGHT
BEGIN:STANDARD
TZOFFSETFROM:+0200
TZOFFSETTO:+0100
TZNAME:CET
DTSTART:20221030T010000
END:STANDARD
END:VTIMEZONE
BEGIN:VEVENT
DTSTART;TZID=Europe/Paris:20210614T180000
DTEND;TZID=Europe/Paris:20210614T200000
DTSTAMP:20260422T133109
CREATED:20210405T111057Z
LAST-MODIFIED:20210613T062958Z
UID:5414-1623693600-1623700800@paulmanwaring.com
SUMMARY:Fathering Organisations – Next Step Coaching & Training 6
DESCRIPTION:Registration for this webinar-series closes on May 10th!\nFathering Organisations – Next Step Coaching & Training\nMost organisations struggle to identify the next steps needed to grow. This organisational coaching & training will equip you with strategic insight to bring breakthrough and transformation.\n£100 for 6 interactive training-sessions – 9m hours of training & access to the recordings & worksheets afterwards.\nMore Informationb\n\nRegister for this Webinar Series\nWebinar Schedule\nAll Webinars start at 1800 UK Time\n\n\n\nDate\nTheme\n\n\n26th April\nIntroduction: How Can I Help You? (2 hour session)\n\n\n\nAn introduction to Organisational Coaching\, its purpose\, and the primary principles that are behind its design.\n\n\n10th May\nDemonstration: Focussing on the Organisation’s Story. (75minute session)\n\n\n\nA practical demonstration of coaching with explanations at each step to help you understand the overall process.\n\n\n17th May\nUnpacking the Story\, discovering fears and the power of Dreams & Memories (75 minute session)\n\n\n\nEvery organisation has a story. Understanding the component parts of the organisation’s story and how it has been affected by fear and can be directed by memories and dreams will set the stage for future development.\n\n\n24th May\nThe Organisation’s Vision & Mission (What & Why)\, Structure & Culture. (75 minute session)\n\n\n\nDeveloping on the question “what are you building\,” this session checks the quality of the what and why and whether they are aligned to each other.\nThe structure must always serve the vision (what) and the culture must serve the season or transitional emphasis.\n\n\n7th June\nDemonstration\, focussing on Alignment (75 minute session)\n\n\n\nIn this second demonstration there is an emphasis on organisational alignment. Is the organisation what it says it is\, does the structure fully serve the vision\, and is the language consistent across the organisation.\n\n\n14th June\nThe Strategic\, Structure\, Culture\, & Spirit Journeys (2 hour session)\n\n\n\nOutlining the purpose of each of these journeys for the organisation. and creating a launch pad for the next steps of breakthrough\, growth\, and alignment.\n\n\n\n  \nTo participate in this FIRST SESSION of “Fathering Organisations – Next Step Coaching & Training” follow the link below. After purchase you will be able to log in to the website and access the course and the webinar links. \nRegister for this Webinar Series
URL:https://paulmanwaring.com/event/fathering-organisations-next-step-coaching-training-6/
LOCATION:Zoom Online Meeting
CATEGORIES:Fathering Organisations - Next Step Coaching & Training,Webinars
ATTACH;FMTTYPE=image/png:https://paulmanwaring.com/wp-content/uploads/2021/03/fowebinar.png
ORGANIZER;CN="Paul Manwaring":MAILTO:info (at) paulmanwaring.com
END:VEVENT
BEGIN:VEVENT
DTSTART;TZID=Europe/Paris:20210607T180000
DTEND;TZID=Europe/Paris:20210607T191500
DTSTAMP:20260422T133109
CREATED:20210405T110141Z
LAST-MODIFIED:20210607T163929Z
UID:5408-1623088800-1623093300@paulmanwaring.com
SUMMARY:Fathering Organisations – Next Step Coaching & Training 5
DESCRIPTION:Registration for this webinar-series closes on May 10th!\nFathering Organisations – Next Step Coaching & Training\nMost organisations struggle to identify the next steps needed to grow. This organisational coaching & training will equip you with strategic insight to bring breakthrough and transformation.\n£100 for 6 interactive training-sessions – 9m hours of training & access to the recordings & worksheets afterwards.\nMore Informationb\n\nRegister for this Webinar Series\nWebinar Schedule\nAll Webinars start at 1800 UK Time\n\n\n\nDate\nTheme\n\n\n26th April\nIntroduction: How Can I Help You? (2 hour session)\n\n\n\nAn introduction to Organisational Coaching\, its purpose\, and the primary principles that are behind its design.\n\n\n10th May\nDemonstration: Focussing on the Organisation’s Story. (75minute session)\n\n\n\nA practical demonstration of coaching with explanations at each step to help you understand the overall process.\n\n\n17th May\nUnpacking the Story\, discovering fears and the power of Dreams & Memories (75 minute session)\n\n\n\nEvery organisation has a story. Understanding the component parts of the organisation’s story and how it has been affected by fear and can be directed by memories and dreams will set the stage for future development.\n\n\n24th May\nThe Organisation’s Vision & Mission (What & Why)\, Structure & Culture. (75 minute session)\n\n\n\nDeveloping on the question “what are you building\,” this session checks the quality of the what and why and whether they are aligned to each other.\nThe structure must always serve the vision (what) and the culture must serve the season or transitional emphasis.\n\n\n7th June\nDemonstration\, focussing on Alignment (75 minute session)\n\n\n\nIn this second demonstration there is an emphasis on organisational alignment. Is the organisation what it says it is\, does the structure fully serve the vision\, and is the language consistent across the organisation.\n\n\n14th June\nThe Strategic\, Structure\, Culture\, & Spirit Journeys (2 hour session)\n\n\n\nOutlining the purpose of each of these journeys for the organisation. and creating a launch pad for the next steps of breakthrough\, growth\, and alignment.\n\n\n\n  \nTo participate in this FIRST SESSION of “Fathering Organisations – Next Step Coaching & Training” follow the link below. After purchase you will be able to log in to the website and access the course and the webinar links. \nRegister for this Webinar Series
URL:https://paulmanwaring.com/event/fathering-organisations-next-step-coaching-training-5/
LOCATION:Zoom Online Meeting
CATEGORIES:Fathering Organisations - Next Step Coaching & Training,Webinars
ATTACH;FMTTYPE=image/png:https://paulmanwaring.com/wp-content/uploads/2021/03/fowebinar.png
ORGANIZER;CN="Paul Manwaring":MAILTO:info (at) paulmanwaring.com
END:VEVENT
BEGIN:VEVENT
DTSTART;TZID=Europe/Paris:20210524T180000
DTEND;TZID=Europe/Paris:20210524T191500
DTSTAMP:20260422T133109
CREATED:20210405T105143Z
LAST-MODIFIED:20210405T110320Z
UID:5400-1621879200-1621883700@paulmanwaring.com
SUMMARY:Fathering Organisations - Next Step Coaching & Training 4
DESCRIPTION:Registration for this webinar-series closes on May 10th!\nFathering Organisations – Next Step Coaching & Training\nMost organisations struggle to identify the next steps needed to grow. This organisational coaching & training will equip you with strategic insight to bring breakthrough and transformation.\n£100 for 6 interactive training-sessions – 9m hours of training & access to the recordings & worksheets afterwards.\nMore Informationb\n\nRegister for this Webinar Series\nWebinar Schedule\nAll Webinars start at 1800 UK Time\n\n\n\nDate\nTheme\n\n\n26th April\nIntroduction: How Can I Help You? (2 hour session)\n\n\n\nAn introduction to Organisational Coaching\, its purpose\, and the primary principles that are behind its design.\n\n\n10th May\nDemonstration: Focussing on the Organisation’s Story. (75minute session)\n\n\n\nA practical demonstration of coaching with explanations at each step to help you understand the overall process.\n\n\n17th May\nUnpacking the Story\, discovering fears and the power of Dreams & Memories (75 minute session)\n\n\n\nEvery organisation has a story. Understanding the component parts of the organisation’s story and how it has been affected by fear and can be directed by memories and dreams will set the stage for future development.\n\n\n24th May\nThe Organisation’s Vision & Mission (What & Why)\, Structure & Culture. (75 minute session)\n\n\n\nDeveloping on the question “what are you building\,” this session checks the quality of the what and why and whether they are aligned to each other.\nThe structure must always serve the vision (what) and the culture must serve the season or transitional emphasis.\n\n\n7th June\nDemonstration\, focussing on Alignment (75 minute session)\n\n\n\nIn this second demonstration there is an emphasis on organisational alignment. Is the organisation what it says it is\, does the structure fully serve the vision\, and is the language consistent across the organisation.\n\n\n14th June\nThe Strategic\, Structure\, Culture\, & Spirit Journeys (2 hour session)\n\n\n\nOutlining the purpose of each of these journeys for the organisation. and creating a launch pad for the next steps of breakthrough\, growth\, and alignment.\n\n\n\n  \nTo participate in this FIRST SESSION of “Fathering Organisations – Next Step Coaching & Training” follow the link below. After purchase you will be able to log in to the website and access the course and the webinar links. \nRegister for this Webinar Series
URL:https://paulmanwaring.com/event/fathering-organisations-next-step-coaching-training-4/
LOCATION:Zoom Online Meeting
CATEGORIES:Fathering Organisations - Next Step Coaching & Training,Webinars
ATTACH;FMTTYPE=image/png:https://paulmanwaring.com/wp-content/uploads/2021/03/fowebinar.png
ORGANIZER;CN="Paul Manwaring":MAILTO:info (at) paulmanwaring.com
END:VEVENT
BEGIN:VEVENT
DTSTART;TZID=Europe/Paris:20210517T180000
DTEND;TZID=Europe/Paris:20210517T191500
DTSTAMP:20260422T133109
CREATED:20210405T104415Z
LAST-MODIFIED:20210405T110749Z
UID:5395-1621274400-1621278900@paulmanwaring.com
SUMMARY:Fathering Organisations - Next Step Coaching & Training 3
DESCRIPTION:Registration for this webinar-series closes on May 10th!\nFathering Organisations – Next Step Coaching & Training\nMost organisations struggle to identify the next steps needed to grow. This organisational coaching & training will equip you with strategic insight to bring breakthrough and transformation.\n£100 for 6 interactive training-sessions – 9m hours of training & access to the recordings & worksheets afterwards.\nMore Informationb\n\nRegister for this Webinar Series\nWebinar Schedule\nAll Webinars start at 1800 UK Time\n\n\n\nDate\nTheme\n\n\n26th April\nIntroduction: How Can I Help You? (2 hour session)\n\n\n\nAn introduction to Organisational Coaching\, its purpose\, and the primary principles that are behind its design.\n\n\n10th May\nDemonstration: Focussing on the Organisation’s Story. (75minute session)\n\n\n\nA practical demonstration of coaching with explanations at each step to help you understand the overall process.\n\n\n17th May\nUnpacking the Story\, discovering fears and the power of Dreams & Memories (75 minute session)\n\n\n\nEvery organisation has a story. Understanding the component parts of the organisation’s story and how it has been affected by fear and can be directed by memories and dreams will set the stage for future development.\n\n\n24th May\nThe Organisation’s Vision & Mission (What & Why)\, Structure & Culture. (75 minute session)\n\n\n\nDeveloping on the question “what are you building\,” this session checks the quality of the what and why and whether they are aligned to each other.\nThe structure must always serve the vision (what) and the culture must serve the season or transitional emphasis.\n\n\n7th June\nDemonstration\, focussing on Alignment (75 minute session)\n\n\n\nIn this second demonstration there is an emphasis on organisational alignment. Is the organisation what it says it is\, does the structure fully serve the vision\, and is the language consistent across the organisation.\n\n\n14th June\nThe Strategic\, Structure\, Culture\, & Spirit Journeys (2 hour session)\n\n\n\nOutlining the purpose of each of these journeys for the organisation. and creating a launch pad for the next steps of breakthrough\, growth\, and alignment.\n\n\n\n  \nTo participate in this FIRST SESSION of “Fathering Organisations – Next Step Coaching & Training” follow the link below. After purchase you will be able to log in to the website and access the course and the webinar links. \nRegister for this Webinar Series
URL:https://paulmanwaring.com/event/fathering-organisations-next-step-coaching-training-3/
LOCATION:Zoom Online Meeting
CATEGORIES:Fathering Organisations - Next Step Coaching & Training,Webinars
ATTACH;FMTTYPE=image/png:https://paulmanwaring.com/wp-content/uploads/2021/03/fowebinar.png
ORGANIZER;CN="Paul Manwaring":MAILTO:info (at) paulmanwaring.com
END:VEVENT
BEGIN:VEVENT
DTSTART;TZID=Europe/Paris:20210510T180000
DTEND;TZID=Europe/Paris:20210510T191500
DTSTAMP:20260422T133109
CREATED:20210405T102759Z
LAST-MODIFIED:20210405T110623Z
UID:5384-1620669600-1620674100@paulmanwaring.com
SUMMARY:Fathering Organisations - Next Step Coaching & Training 2
DESCRIPTION:Registration for this webinar-series closes on May 10th!\nFathering Organisations – Next Step Coaching & Training\nMost organisations struggle to identify the next steps needed to grow. This organisational coaching & training will equip you with strategic insight to bring breakthrough and transformation.\n£100 for 6 interactive training-sessions – 9m hours of training & access to the recordings & worksheets afterwards.\nMore Informationb\n\nRegister for this Webinar Series\nWebinar Schedule\nAll Webinars start at 1800 UK Time\n\n\n\nDate\nTheme\n\n\n26th April\nIntroduction: How Can I Help You? (2 hour session)\n\n\n\nAn introduction to Organisational Coaching\, its purpose\, and the primary principles that are behind its design.\n\n\n10th May\nDemonstration: Focussing on the Organisation’s Story. (75minute session)\n\n\n\nA practical demonstration of coaching with explanations at each step to help you understand the overall process.\n\n\n17th May\nUnpacking the Story\, discovering fears and the power of Dreams & Memories (75 minute session)\n\n\n\nEvery organisation has a story. Understanding the component parts of the organisation’s story and how it has been affected by fear and can be directed by memories and dreams will set the stage for future development.\n\n\n24th May\nThe Organisation’s Vision & Mission (What & Why)\, Structure & Culture. (75 minute session)\n\n\n\nDeveloping on the question “what are you building\,” this session checks the quality of the what and why and whether they are aligned to each other.\nThe structure must always serve the vision (what) and the culture must serve the season or transitional emphasis.\n\n\n7th June\nDemonstration\, focussing on Alignment (75 minute session)\n\n\n\nIn this second demonstration there is an emphasis on organisational alignment. Is the organisation what it says it is\, does the structure fully serve the vision\, and is the language consistent across the organisation.\n\n\n14th June\nThe Strategic\, Structure\, Culture\, & Spirit Journeys (2 hour session)\n\n\n\nOutlining the purpose of each of these journeys for the organisation. and creating a launch pad for the next steps of breakthrough\, growth\, and alignment.\n\n\n\n  \nTo participate in this FIRST SESSION of “Fathering Organisations – Next Step Coaching & Training” follow the link below. After purchase you will be able to log in to the website and access the course and the webinar links. \nRegister for this Webinar Series
URL:https://paulmanwaring.com/event/fathering-organisations-next-step-coaching-training-2/
LOCATION:Zoom Online Meeting
CATEGORIES:Fathering Organisations - Next Step Coaching & Training,Webinars
ATTACH;FMTTYPE=image/png:https://paulmanwaring.com/wp-content/uploads/2021/03/fowebinar.png
ORGANIZER;CN="Paul Manwaring":MAILTO:info (at) paulmanwaring.com
END:VEVENT
BEGIN:VEVENT
DTSTART;TZID=Europe/Paris:20210426T180000
DTEND;TZID=Europe/Paris:20210426T200000
DTSTAMP:20260422T133109
CREATED:20210330T072636Z
LAST-MODIFIED:20210425T163836Z
UID:5298-1619460000-1619467200@paulmanwaring.com
SUMMARY:Fathering Organisations - Next Step Coaching & Training 1
DESCRIPTION:Registration for this webinar-series closes on May 10th!\nFathering Organisations – Next Step Coaching & Training\nMost organisations struggle to identify the next steps needed to grow. This organisational coaching & training will equip you with strategic insight to bring breakthrough and transformation.\n£100 for 6 interactive training-sessions – 9m hours of training & access to the recordings & worksheets afterwards.\nMore Informationb\n\nRegister for this Webinar Series\nWebinar Schedule\nAll Webinars start at 1800 UK Time\n\n\n\nDate\nTheme\n\n\n26th April\nIntroduction: How Can I Help You? (2 hour session)\n\n\n\nAn introduction to Organisational Coaching\, its purpose\, and the primary principles that are behind its design.\n\n\n10th May\nDemonstration: Focussing on the Organisation’s Story. (75minute session)\n\n\n\nA practical demonstration of coaching with explanations at each step to help you understand the overall process.\n\n\n17th May\nUnpacking the Story\, discovering fears and the power of Dreams & Memories (75 minute session)\n\n\n\nEvery organisation has a story. Understanding the component parts of the organisation’s story and how it has been affected by fear and can be directed by memories and dreams will set the stage for future development.\n\n\n24th May\nThe Organisation’s Vision & Mission (What & Why)\, Structure & Culture. (75 minute session)\n\n\n\nDeveloping on the question “what are you building\,” this session checks the quality of the what and why and whether they are aligned to each other.\nThe structure must always serve the vision (what) and the culture must serve the season or transitional emphasis.\n\n\n7th June\nDemonstration\, focussing on Alignment (75 minute session)\n\n\n\nIn this second demonstration there is an emphasis on organisational alignment. Is the organisation what it says it is\, does the structure fully serve the vision\, and is the language consistent across the organisation.\n\n\n14th June\nThe Strategic\, Structure\, Culture\, & Spirit Journeys (2 hour session)\n\n\n\nOutlining the purpose of each of these journeys for the organisation. and creating a launch pad for the next steps of breakthrough\, growth\, and alignment.\n\n\n\n  \nTo participate in this FIRST SESSION of “Fathering Organisations – Next Step Coaching & Training” follow the link below. After purchase you will be able to log in to the website and access the course and the webinar links. \nRegister for this Webinar Series
URL:https://paulmanwaring.com/event/fathering-organisations-next-step-coaching-training/
LOCATION:Zoom Online Meeting
CATEGORIES:Fathering Organisations - Next Step Coaching & Training,Webinars
ATTACH;FMTTYPE=image/png:https://paulmanwaring.com/wp-content/uploads/2021/03/fowebinar.png
ORGANIZER;CN="Paul Manwaring":MAILTO:info (at) paulmanwaring.com
END:VEVENT
END:VCALENDAR